BEGIN:VCALENDAR
VERSION:2.0
METHOD:PUBLISH
PRODID:-//Accessible Web Design//My Calendar//http://www.joedolson.com//v3.1.17//EN';
BEGIN:VEVENT
UID:84-22
LOCATION:Op Schéimerech (Open Air Site) rue du Cimetière  Kehlen
SUMMARY:Fräiliichttheater 2000 | Den Haedesteen op Scheimerech
DTSTAMP:20000719T000000
ORGANIZER;CN=admin_wp:MAILTO:pir_krier@yahoo.com
DTSTART:20000719T000000
DTEND:20000719T000000
CATEGORIES:Open Air Event
URL;VALUE=URI:
DESCRIPTION;ENCODING=QUOTED-PRINTABLE:“DEN HAEDESTEEN OP SCHEIMERECH”Fräiliicht-Theater zu Kielen “Op Schéimerech”19.-20.-21.-22. an 23. Juli 2000 um 21.00 Auer&nbsp;&nbsp;Schéimerch kuerz virum Joer 1000En ale Réimersteen gehéiert zum Alldag vun de Leit, déi deemols op dëser Plaz um Maart sech begéint an matenee geliewt hun.D’Plaz gehéiert der Abtei Sankt Maximäin vun Tréier, an obwuel fir d’Mënschen d’deeglecht Iwwerliewen am Mëttelpunkt vun hirem Denken steet; sin se gespaant opdat wat deen neie chrëschtleche Glawen hine soll bréngen; besonnesch well och nach den ieweschte Kapp vun der kathoulescher Kirch – de Poopst bei si soll op Besuch kommen.Vill Opreegung gët et fir de Jonker Konrod, d’Wirtsfamill, d’Duerfleit an den neie Paschtouer. Just de jiddesche Pärdsfockert an de Stärekickert gesin méi wäit…&nbsp;De Jemp SchusterHien as den 29. Februar 1948 gebuer a bekannt als Theaterschreiwer a Spiller. Séng Spezialitéiten si Kabaräsprogrammer, Theaterstécker, Kannerstécker, Lauschtergeschichten an einfach Geschichten.Zënter Joer an Dag as hien mat sénge satiresch-pikege Programmer op Turnee uechtert d’Land, awer och mat séngem Kannertheater “Jaddermunnes”.Wat hien op d’Bühn bréngt muss entweder am klengen oder am grousse Kader geschéien. De grousse Kader sicht hien haaptsächlech op Fräiliichtbühnen wéi zu Groussbus, am Gronn oder elo zu Kielen. Hien huet den Don vill Leit mat sénge Regie-Uweisungen ze féieren a mëcht dat mat vill Engagement.Den “Hädesteen op Schéimerech” huet hien speziell fir d’ASBL “OP SCHEIMERECH” geschriwwen an ët gët och just hei gespillt.&nbsp;D’Equipe vum “Hädesteen op Schéimerech”:AkteurenBAUDET MichelBECKER SilvianeBERTON NicolasBIVER AnnickBIVER ClaudineBIVER FernandBIVER FranzBIVER JoéCLESSE ClaudeCLOSENER DanielleCLOSENER LizEISCHEN FelixEISCHEN OliviaFEYDER AbbesFLAMMANG AnniGEORGES DianeHARDT DanyHEGER Jean-VianneyJERUSALEM Marie-LouiseKASEL ChristianeKASEL DavidKASEL FabienneKASEL MichelKOCKELMANN RomainKONZ MoniaKRAUS NadineKREMER ChristianeKUBORN LeoLORANG JacquesMAAS MarcMAAS RenéeMAAS VéroniqueMATHEKOWITSCH AnneMATHEKOWITSCH JoséeMATHEKOWITSCH MarcMEDINGER TessyMULLER Marie-ThérèseNEU-BRUNA FrançoisePAULUS CarolinePLUMER LussSCHEITLER JoëlSCHEITLER ManouSCHROEDER TomSCHUMACHER NathalieSCHUSTER JempSCHWICKERATH DianeTHEIS DanielleTHEIS FranzTHEIS KettyTHILMANY MarcTHOLL RomainTHYES GuyTHYES JosetteWAGNER PaulWALLENBORN ArnoldWELBES StéphanieKostümerSylvie BACK-BISSENRomy LORANGDanielle THILLAgny TONNAREliane WEBERColette WEYER-KOSCHAfficheMarc THOMABrochureJoël ADAMRobert ADAMRomain KOCKELMANNChristiane KREMERManfred NEUMichel POLFERJoël SCHEITLERLaurent THYESJeannah TONNARMaquillageLydia BEAUJEANMonique LEHNERTSylvie NIERENHAUSENBühnJoël ADAMRobert ADAMJacques BONIFASClaude CLESSEBert HEGERJean HEGERBenoît KIEFFERJacques LORANGManfred NEU an de MettyLucien PLUMERManou SCHEITLERFabienne SCHOUFränz THEISRomain THOLLPaul THYESWill VOSMANNPaul WAGNERLuucht a SonorisatiounON STAGE LIGHT, FëschbechRegie-AssistentinMichèle TURPELFabienne SCHOUMusékPaul PEPINRegieJemp SCHUSTERDe Comité 2000Christiane KREMER, PresidentinRomain KOCKELMANN, Vize-PresidentJoël ADAM, SecrétaireJoël SCHEITLER, CaissierSilviane BECKERDanielle CLOSENERTrixy FEROVéronique MAASAnne MATHEKOWITSCHFrançoise NEUPaul PEPINLucien PLUMERManou SCHEITLERPaul WAGNERStéphanie WELBES 
END:VEVENT
END:VCALENDAR